BEGIN:VCALENDAR
VERSION:2.0
METHOD:PUBLISH
CALSCALE:GREGORIAN
PRODID:-//Helios Calendar//EN
X-FROM-URL:https://theblueridgehighlander.com/calendar/index.php?eID=13284
X-WR-RELCALID:Highlander Calendar of Events Hiawassee GA - Mile Long Yard Sale 20230422T080000
X-WR-TIMEZONE:America/New_York
X-WR-CALNAME:Highlander Calendar of Events
BEGIN:VEVENT
URL;VALUE=URI:https://theblueridgehighlander.com/calendar/index.php?eID=13284
DTSTART:20230422T080000
DTEND:20230422T150000
SUMMARY:Hiawassee GA - Mile Long Yard Sale
DESCRIPTION:One man's trash is another man's treasure. Come shop 1 mile worth of treasures at the Georgia Mountain Fairgrounds! Free entry to shoppers!  Friday\, April 21\, 2023 from 10am-4pmSaturday\, April 22\,... For complete event details please visit:  https://theblueridgehighlander.com/calendar/?eID=13284\n______________________________\nEvent Downloaded Powered by Helios Calendar
LOCATION:Georgia Mountain Fairgrounds - 1311 Music Hall Road \, Hiawassee\, GA USA 30546
CATEGORIES:Highlander Calendar of Events Events
PRIORITY:0
TRANSP:TRANSPARENT
END:VEVENT
END:VCALENDAR