BEGIN:VCALENDAR
VERSION:2.0
METHOD:PUBLISH
CALSCALE:GREGORIAN
PRODID:-//Helios Calendar//EN
X-FROM-URL:https://theblueridgehighlander.com/calendar/index.php?eID=13304
X-WR-RELCALID:Highlander Calendar of Events Hiawassee GA - Clint Black at Anderson Music Hall at Georgia Mtn Fairground 20230415T190000
X-WR-TIMEZONE:America/New_York
X-WR-CALNAME:Highlander Calendar of Events
BEGIN:VEVENT
URL;VALUE=URI:https://theblueridgehighlander.com/calendar/index.php?eID=13304
DTSTART:20230415T190000
DTEND:20230415T230000
SUMMARY:Hiawassee GA - Clint Black at Anderson Music Hall at Georgia Mtn Fairground
DESCRIPTION:Clint Black"Killin' Time" with Clint Black at the Georgia Mountain Fairgrounds in Hiawassee\, Ga! It is one of the most storied careers in modern music. Clint Black surged to superstardom as part of... For complete event details please visit:  https://theblueridgehighlander.com/calendar/?eID=13304\n______________________________\nEvent Downloaded Powered by Helios Calendar
LOCATION:Georgia Mountain Fairgrounds - 1311 Music Hall Road \, Hiawassee\, GA USA 30546
CATEGORIES:Highlander Calendar of Events Events
PRIORITY:0
TRANSP:TRANSPARENT
END:VEVENT
END:VCALENDAR