BEGIN:VCALENDAR
VERSION:2.0
METHOD:PUBLISH
CALSCALE:GREGORIAN
PRODID:-//Helios Calendar//EN
X-FROM-URL:https://theblueridgehighlander.com/calendar/index.php?eID=13330
X-WR-RELCALID:Highlander Calendar of Events Hiawassee GA - Hiawassee Highlands Wine Festival at Georgia Mtn Fairgrounds 20230513T110000
X-WR-TIMEZONE:America/New_York
X-WR-CALNAME:Highlander Calendar of Events
BEGIN:VEVENT
URL;VALUE=URI:https://theblueridgehighlander.com/calendar/index.php?eID=13330
DTSTART:20230513T110000
DTEND:20230513T170000
SUMMARY:Hiawassee GA - Hiawassee Highlands Wine Festival at Georgia Mtn Fairgrounds
DESCRIPTION:Hiawassee Highlands Wine FestivalThe Hiawassee Highlands Wine Festival will be on Saturday\, May 13th. Enjoy music by Wyatt Espalin & friends on two stages\, arts and crafts\, food trucks\, and tours... For complete event details please visit:  https://theblueridgehighlander.com/calendar/?eID=13330\n______________________________\nEvent Downloaded Powered by Helios Calendar
LOCATION:Georgia Mountain Fairgrounds - 1311 Music Hall Road \, Hiawassee\, GA USA 30546
CATEGORIES:Highlander Calendar of Events Events
PRIORITY:0
TRANSP:TRANSPARENT
END:VEVENT
END:VCALENDAR