BEGIN:VCALENDAR
VERSION:2.0
METHOD:PUBLISH
CALSCALE:GREGORIAN
PRODID:-//Helios Calendar//EN
X-FROM-URL:https://theblueridgehighlander.com/calendar/index.php?eID=13334
X-WR-RELCALID:Highlander Calendar of Events Hiawassee GA - Happy Together Tour at Anderson Music Hall at Georgia Mountain Fairgrounds 20230603T190000
X-WR-TIMEZONE:America/New_York
X-WR-CALNAME:Highlander Calendar of Events
BEGIN:VEVENT
URL;VALUE=URI:https://theblueridgehighlander.com/calendar/index.php?eID=13334
DTSTART:20230603T190000
DTEND:20230603T190000
SUMMARY:Hiawassee GA - Happy Together Tour at Anderson Music Hall at Georgia Mountain Fairgrounds
DESCRIPTION:The Happy Together Tourfeatures:THE TURTLESLITTLE ANTHONYGARY PUCKETT & UNION GAPTHE VOGUESThe CLASSICS IVTHE COWSILLSHappy Together Tour 2023 - Starring: The Turtles\, Gary Puckett & Union... For complete event details please visit:  https://theblueridgehighlander.com/calendar/?eID=13334\n______________________________\nEvent Downloaded Powered by Helios Calendar
LOCATION:Georgia Mountain Fairgrounds - 1311 Music Hall Road \, Hiawassee\, GA USA 30546
CATEGORIES:Highlander Calendar of Events Events
PRIORITY:0
TRANSP:TRANSPARENT
END:VEVENT
END:VCALENDAR