BEGIN:VCALENDAR
VERSION:2.0
METHOD:PUBLISH
CALSCALE:GREGORIAN
PRODID:-//Helios Calendar//EN
X-FROM-URL:https://theblueridgehighlander.com/calendar/index.php?eID=13652
X-WR-RELCALID:Highlander Calendar of Events Blue Ridge GA - BRMAA - Youth Art Month 20230305T100000
X-WR-TIMEZONE:America/New_York
X-WR-CALNAME:Highlander Calendar of Events
BEGIN:VEVENT
URL;VALUE=URI:https://theblueridgehighlander.com/calendar/index.php?eID=13652
DTSTART:20230305T100000
DTEND:20230305T180000
SUMMARY:Blue Ridge GA - BRMAA - Youth Art Month
DESCRIPTION: Youth Art Month  Support our young and talented emerging artists during the nationally celebrated Youth Art Month. Young artists from Fannin County and Copper Basin area schools\, as well as homeschool... For complete event details please visit:  https://theblueridgehighlander.com/calendar/?eID=13652\n______________________________\nEvent Downloaded Powered by Helios Calendar
LOCATION:The Art Center - Blue Ridge Mtn Arts Association - 420 West Main Street \, Blue Ridge\, GA USA 30513
CATEGORIES:Highlander Calendar of Events Events
PRIORITY:0
TRANSP:TRANSPARENT
END:VEVENT
END:VCALENDAR