BEGIN:VCALENDAR
VERSION:2.0
METHOD:PUBLISH
CALSCALE:GREGORIAN
PRODID:-//Helios Calendar//EN
X-FROM-URL:https://theblueridgehighlander.com/calendar/index.php?eID=13701
X-WR-RELCALID:Highlander Calendar of Events Blue Ridge GA - BRMAA - 26th Annual Blue Ridge Writers' Conference 20230415T103000
X-WR-TIMEZONE:America/New_York
X-WR-CALNAME:Highlander Calendar of Events
BEGIN:VEVENT
URL;VALUE=URI:https://theblueridgehighlander.com/calendar/index.php?eID=13701
DTSTART:20230415T103000
DTEND:20230415T170000
SUMMARY:Blue Ridge GA - BRMAA - 26th Annual Blue Ridge Writers' Conference
DESCRIPTION:  Annual Blue Ridge Writers' ConferenceThe Blue Ridge Writers' Conference mission is to educate\, inform and inspire writers. Throughout the conference\, writers will network with fellow writers\, expand... For complete event details please visit:  https://theblueridgehighlander.com/calendar/?eID=13701\n______________________________\nEvent Downloaded Powered by Helios Calendar
LOCATION:The Art Center - Blue Ridge Mtn Arts Association - 420 West Main Street \, Blue Ridge\, GA USA 30513
CATEGORIES:Highlander Calendar of Events Events
PRIORITY:0
TRANSP:TRANSPARENT
END:VEVENT
END:VCALENDAR