BEGIN:VCALENDAR
VERSION:2.0
METHOD:PUBLISH
CALSCALE:GREGORIAN
PRODID:-//Helios Calendar//EN
X-FROM-URL:https://theblueridgehighlander.com/calendar/index.php?eID=14004
X-WR-RELCALID:Highlander Calendar of Events Blue Ridge GA - Annual BRMAA - Who Dunit? 20231118T180000
X-WR-TIMEZONE:America/New_York
X-WR-CALNAME:Highlander Calendar of Events
BEGIN:VEVENT
URL;VALUE=URI:https://theblueridgehighlander.com/calendar/index.php?eID=14004
DTSTART:20231118T180000
DTEND:20231118T210000
SUMMARY:Blue Ridge GA - Annual BRMAA - Who Dunit?
DESCRIPTION: Annual BRMAA - Who Dunit?This is a rare opportunity to acquire remarkable artworks from sought-after local and regional artists at an incredible price! Each $50 ticket guarantees you are going home... For complete event details please visit:  https://theblueridgehighlander.com/calendar/?eID=14004\n______________________________\nEvent Downloaded Powered by Helios Calendar
LOCATION:The Art Center - Blue Ridge Mtn Arts Association - 420 West Main Street \, Blue Ridge\, GA USA 30513
CATEGORIES:Highlander Calendar of Events Events
PRIORITY:0
TRANSP:TRANSPARENT
END:VEVENT
END:VCALENDAR