BEGIN:VCALENDAR
VERSION:2.0
METHOD:PUBLISH
CALSCALE:GREGORIAN
PRODID:-//Helios Calendar//EN
X-FROM-URL:https://theblueridgehighlander.com/calendar/index.php?eID=14114
X-WR-RELCALID:Highlander Calendar of Events Hiawassee GA - July 4th Fireworks at Georgia Mountain Fairgrounds 20230704T214500
X-WR-TIMEZONE:America/New_York
X-WR-CALNAME:Highlander Calendar of Events
BEGIN:VEVENT
URL;VALUE=URI:https://theblueridgehighlander.com/calendar/index.php?eID=14114
DTSTART:20230704T214500
DTEND:20230704T230000
SUMMARY:Hiawassee GA - July 4th Fireworks at Georgia Mountain Fairgrounds
DESCRIPTION:July 4th FireworksCelebrate America's Birthday with fireworks at the Fairgrounds! Celebrate our great Country in the beautiful North Georgia Mountains with a fireworks display over Lake Chatuge!The... For complete event details please visit:  https://theblueridgehighlander.com/calendar/?eID=14114\n______________________________\nEvent Downloaded Powered by Helios Calendar
LOCATION:Georgia Mountain Fairgrounds - 1311 Music Hall Road \, Hiawassee\, GA USA 30546
CATEGORIES:Highlander Calendar of Events Events
PRIORITY:0
TRANSP:TRANSPARENT
END:VEVENT
END:VCALENDAR