BEGIN:VCALENDAR
VERSION:2.0
METHOD:PUBLISH
CALSCALE:GREGORIAN
PRODID:-//Helios Calendar//EN
X-FROM-URL:https://theblueridgehighlander.com/calendar/index.php?eID=14134
X-WR-RELCALID:Highlander Calendar of Events Hiawassee GA - Appalachian Brew, Stew & Que Festival 20231021T110000
X-WR-TIMEZONE:America/New_York
X-WR-CALNAME:Highlander Calendar of Events
BEGIN:VEVENT
URL;VALUE=URI:https://theblueridgehighlander.com/calendar/index.php?eID=14134
DTSTART:20231021T110000
DTEND:20231021T170000
SUMMARY:Hiawassee GA - Appalachian Brew\, Stew & Que Festival
DESCRIPTION: Beer. Que. Stew. Any Questions? Be there!Enjoy craft beer from Georgia\, North Carolina\, South Carolina & Alabama. You will also enjoy glass blowing demonstrations\, area restaurants\, and live... For complete event details please visit:  https://theblueridgehighlander.com/calendar/?eID=14134\n______________________________\nEvent Downloaded Powered by Helios Calendar
LOCATION:Georgia Mountain Fairgrounds - 1311 Music Hall Road \, Hiawassee\, GA USA 30546
CATEGORIES:Highlander Calendar of Events Events
PRIORITY:0
TRANSP:TRANSPARENT
END:VEVENT
END:VCALENDAR