BEGIN:VCALENDAR
VERSION:2.0
METHOD:PUBLISH
CALSCALE:GREGORIAN
PRODID:-//Helios Calendar//EN
X-FROM-URL:https://theblueridgehighlander.com/calendar/index.php?eID=14135
X-WR-RELCALID:Highlander Calendar of Events Hiawassee GA - Georgia Mountain Fall Festival 20231006T100000
X-WR-TIMEZONE:America/New_York
X-WR-CALNAME:Highlander Calendar of Events
BEGIN:VEVENT
URL;VALUE=URI:https://theblueridgehighlander.com/calendar/index.php?eID=14135
DTSTART:20231006T100000
DTEND:20231006T190000
SUMMARY:Hiawassee GA - Georgia Mountain Fall Festival
DESCRIPTION: The Georgia Mountain Fall Fest features fantastic concerts\, arts & crafts & interesting demonstrations. Come check it out October 6th - 14th.With first class music performances\, arts &... For complete event details please visit:  https://theblueridgehighlander.com/calendar/?eID=14135\n______________________________\nEvent Downloaded Powered by Helios Calendar
LOCATION:Georgia Mountain Fairgrounds - 1311 Music Hall Road \, Hiawassee\, GA USA 30546
CATEGORIES:Highlander Calendar of Events Events
PRIORITY:0
TRANSP:TRANSPARENT
END:VEVENT
END:VCALENDAR