BEGIN:VCALENDAR
VERSION:2.0
METHOD:PUBLISH
CALSCALE:GREGORIAN
PRODID:-//Helios Calendar//EN
X-FROM-URL:https://theblueridgehighlander.com/calendar/index.php?eID=14157
X-WR-RELCALID:Highlander Calendar of Events Hiawassee GA - Mountain Country Christmas in Lights 20231218T180000
X-WR-TIMEZONE:America/New_York
X-WR-CALNAME:Highlander Calendar of Events
BEGIN:VEVENT
URL;VALUE=URI:https://theblueridgehighlander.com/calendar/index.php?eID=14157
DTSTART:20231218T180000
DTEND:20231218T210000
SUMMARY:Hiawassee GA - Mountain Country Christmas in Lights
DESCRIPTION:We will have live music\, arts and craft vendors\, food\, thousands of lights and most important...We have SANTA!!!Get in the holiday spirit at the Fairgrounds this Christmas season! Tons of photo opportunities\,... For complete event details please visit:  https://theblueridgehighlander.com/calendar/?eID=14157\n______________________________\nEvent Downloaded Powered by Helios Calendar
LOCATION:Georgia Mountain Fairgrounds - 1311 Music Hall Road \, Hiawassee\, GA USA 30546
CATEGORIES:Highlander Calendar of Events Events
PRIORITY:0
TRANSP:TRANSPARENT
END:VEVENT
END:VCALENDAR