BEGIN:VCALENDAR
VERSION:2.0
METHOD:PUBLISH
CALSCALE:GREGORIAN
PRODID:-//Helios Calendar//EN
X-FROM-URL:https://theblueridgehighlander.com/calendar/index.php?eID=14163
X-WR-RELCALID:Highlander Calendar of Events Hiawassee GA - New Year Fireworks at Georgia Mountain Fairgrounds 20231231T170000
X-WR-TIMEZONE:America/New_York
X-WR-CALNAME:Highlander Calendar of Events
BEGIN:VEVENT
URL;VALUE=URI:https://theblueridgehighlander.com/calendar/index.php?eID=14163
DTSTART:20231231T170000
DTEND:20231231T220000
SUMMARY:Hiawassee GA - New Year Fireworks at Georgia Mountain Fairgrounds
DESCRIPTION:Let's usher in 2024 with a bang!Come out to the Georgia Mountain Fairgrounds and help us usher in 2024 with bang!Blairsville Cruisers will be on the Fairgrounds from 5pm-7pm for a car show. Hot Chocolate\,... For complete event details please visit:  https://theblueridgehighlander.com/calendar/?eID=14163\n______________________________\nEvent Downloaded Powered by Helios Calendar
LOCATION:Georgia Mountain Fairgrounds - 1311 Music Hall Road \, Hiawassee\, GA USA 30546
CATEGORIES:Highlander Calendar of Events Events
PRIORITY:0
TRANSP:TRANSPARENT
END:VEVENT
END:VCALENDAR