BEGIN:VCALENDAR
VERSION:2.0
METHOD:PUBLISH
CALSCALE:GREGORIAN
PRODID:-//Helios Calendar//EN
X-FROM-URL:https://theblueridgehighlander.com/calendar/index.php?eID=14168
X-WR-RELCALID:Highlander Calendar of Events Chimney Rock - Girl Scout Day & Campout 20230520
X-WR-TIMEZONE:America/New_York
X-WR-CALNAME:Highlander Calendar of Events
BEGIN:VEVENT
URL;VALUE=URI:https://theblueridgehighlander.com/calendar/index.php?eID=14168
DTSTART;VALUE=DATE:20230520
DTEND;VALUE=DATE:20230521
SUMMARY:Chimney Rock - Girl Scout Day & Campout
DESCRIPTION: Girl Scout Day & CampoutLooking for a weekend of exploration and excitement for your troop? Look no further than our biggest scout event of the year! Enjoy a day of hands-on programming and hikes... For complete event details please visit:  https://theblueridgehighlander.com/calendar/?eID=14168\n______________________________\nEvent Downloaded Powered by Helios Calendar
LOCATION:Chimney Rock at Chimney Rock State Park - 174 Chimney Rock Park Road \, Chimney Rock\, NC USA 28720
CATEGORIES:Highlander Calendar of Events Events
PRIORITY:0
TRANSP:TRANSPARENT
END:VEVENT
END:VCALENDAR