BEGIN:VCALENDAR
VERSION:2.0
METHOD:PUBLISH
CALSCALE:GREGORIAN
PRODID:-//Helios Calendar//EN
X-FROM-URL:https://theblueridgehighlander.com/calendar/index.php?eID=14323
X-WR-RELCALID:Highlander Calendar of Events Chimney Rock NC - Yoga with a View Series 20230825T190000
X-WR-TIMEZONE:America/New_York
X-WR-CALNAME:Highlander Calendar of Events
BEGIN:VEVENT
URL;VALUE=URI:https://theblueridgehighlander.com/calendar/index.php?eID=14323
DTSTART:20230825T190000
DTEND:20230825T200000
SUMMARY:Chimney Rock NC - Yoga with a View Series
DESCRIPTION: Yoga with a View SeriesEnjoy the quiet of the Park after the gates have closed at this outdoor class led by Namaste in Nature. Enjoy a practice suitable for all levels of expertise as you overlook... For complete event details please visit:  https://theblueridgehighlander.com/calendar/?eID=14323\n______________________________\nEvent Downloaded Powered by Helios Calendar
LOCATION:Chimney Rock at Chimney Rock State Park - 174 Chimney Rock Park Road \, Chimney Rock\, NC USA 28720
CATEGORIES:Highlander Calendar of Events Events
PRIORITY:0
TRANSP:TRANSPARENT
END:VEVENT
END:VCALENDAR