BEGIN:VCALENDAR
VERSION:2.0
METHOD:PUBLISH
CALSCALE:GREGORIAN
PRODID:-//Helios Calendar//EN
X-FROM-URL:https://theblueridgehighlander.com/calendar/index.php?eID=14326
X-WR-RELCALID:Highlander Calendar of Events Chimney Rock NC - Fall Girl Scout Day & Campout 20230917T093000
X-WR-TIMEZONE:America/New_York
X-WR-CALNAME:Highlander Calendar of Events
BEGIN:VEVENT
URL;VALUE=URI:https://theblueridgehighlander.com/calendar/index.php?eID=14326
DTSTART:20230917T093000
DTEND:20230917T093000
SUMMARY:Chimney Rock NC - Fall Girl Scout Day & Campout
DESCRIPTION: FallGirl Scout Day & CampoutNothing says fall like a weekend at Chimney Rock. Round up your troop for a chance to meet new friends\, explore the Park and learn more about the world around us through... For complete event details please visit:  https://theblueridgehighlander.com/calendar/?eID=14326\n______________________________\nEvent Downloaded Powered by Helios Calendar
LOCATION:Chimney Rock at Chimney Rock State Park - 174 Chimney Rock Park Road \, Chimney Rock\, NC USA 28720
CATEGORIES:Highlander Calendar of Events Events
PRIORITY:0
TRANSP:TRANSPARENT
END:VEVENT
END:VCALENDAR