BEGIN:VCALENDAR
VERSION:2.0
METHOD:PUBLISH
CALSCALE:GREGORIAN
PRODID:-//Helios Calendar//EN
X-FROM-URL:https://theblueridgehighlander.com/calendar/index.php?eID=14403
X-WR-RELCALID:Highlander Calendar of Events Chimney Rock NC - Naturalist Niche: Fall Birding Hike 20231118T083000
X-WR-TIMEZONE:America/New_York
X-WR-CALNAME:Highlander Calendar of Events
BEGIN:VEVENT
URL;VALUE=URI:https://theblueridgehighlander.com/calendar/index.php?eID=14403
DTSTART:20231118T083000
DTEND:20231118T223000
SUMMARY:Chimney Rock NC - Naturalist Niche: Fall Birding Hike
DESCRIPTION: Naturalist Niche: Fall Birding HikeThough most migrating birds have made their way through our area by this point in the year there are plenty of species who will spend the cooler months with us.... For complete event details please visit:  https://theblueridgehighlander.com/calendar/?eID=14403\n______________________________\nEvent Downloaded Powered by Helios Calendar
LOCATION:Chimney Rock at Chimney Rock State Park - 174 Chimney Rock Park Road \, Chimney Rock\, NC USA 28720
CATEGORIES:Highlander Calendar of Events Events
PRIORITY:0
TRANSP:TRANSPARENT
END:VEVENT
END:VCALENDAR