BEGIN:VCALENDAR
VERSION:2.0
METHOD:PUBLISH
CALSCALE:GREGORIAN
PRODID:-//Helios Calendar//EN
X-FROM-URL:https://theblueridgehighlander.com/calendar/index.php?eID=14426
X-WR-RELCALID:Highlander Calendar of Events Hiawassee GA - First Annual Top of Georgia Plein Aire Festival at Hamilton Gardens 20230513T150000
X-WR-TIMEZONE:America/New_York
X-WR-CALNAME:Highlander Calendar of Events
BEGIN:VEVENT
URL;VALUE=URI:https://theblueridgehighlander.com/calendar/index.php?eID=14426
DTSTART:20230513T150000
DTEND:20230513T150000
SUMMARY:Hiawassee GA - First Annual Top of Georgia Plein Aire Festival at Hamilton Gardens
DESCRIPTION:First Annual Top of Georgia Plein Aire FestivalCome watch the artists in the largest Plein Aire event in the southeast while they paint in the gardens.Final judging and showing will begin at 3pm in... For complete event details please visit:  https://theblueridgehighlander.com/calendar/?eID=14426\n______________________________\nEvent Downloaded Powered by Helios Calendar
LOCATION:Hamilton Gardens - Hiawassee Georgia - 96 Pavilion Road \, Hiawassee\, GA US 30546
CATEGORIES:Highlander Calendar of Events Events
PRIORITY:0
TRANSP:TRANSPARENT
END:VEVENT
END:VCALENDAR