BEGIN:VCALENDAR
VERSION:2.0
METHOD:PUBLISH
CALSCALE:GREGORIAN
PRODID:-//Helios Calendar//EN
X-FROM-URL:https://theblueridgehighlander.com/calendar/index.php?eID=14430
X-WR-RELCALID:Highlander Calendar of Events Hiawassee GA - Trace Adkins Live at Anderson Music Hall at Georgia Mtn Fairground 20231014T190000
X-WR-TIMEZONE:America/New_York
X-WR-CALNAME:Highlander Calendar of Events
BEGIN:VEVENT
URL;VALUE=URI:https://theblueridgehighlander.com/calendar/index.php?eID=14430
DTSTART:20231014T190000
DTEND:20231014T190000
SUMMARY:Hiawassee GA - Trace Adkins Live at Anderson Music Hall at Georgia Mtn Fairground
DESCRIPTION:Trace AdkinsGet your Honky Tonk on with Trace Adkins!In his 25-year career in Country music\, Trace Adkins has sold over 11 MILLION albums\, charted over 20 singles\, earned numerous awards and GRAMMY... For complete event details please visit:  https://theblueridgehighlander.com/calendar/?eID=14430\n______________________________\nEvent Downloaded Powered by Helios Calendar
LOCATION:Georgia Mountain Fairgrounds - 1311 Music Hall Road \, Hiawassee\, GA USA 30546
CATEGORIES:Highlander Calendar of Events Events
PRIORITY:0
TRANSP:TRANSPARENT
END:VEVENT
END:VCALENDAR