BEGIN:VCALENDAR
VERSION:2.0
METHOD:PUBLISH
CALSCALE:GREGORIAN
PRODID:-//Helios Calendar//EN
X-FROM-URL:https://theblueridgehighlander.com/calendar/index.php?eID=14431
X-WR-RELCALID:Highlander Calendar of Events Hiawassee GA - Jo Dee Messina Live at Anderson Music Hall at Georgia Mtn Fairground 20231007T190000
X-WR-TIMEZONE:America/New_York
X-WR-CALNAME:Highlander Calendar of Events
BEGIN:VEVENT
URL;VALUE=URI:https://theblueridgehighlander.com/calendar/index.php?eID=14431
DTSTART:20231007T190000
DTEND:20231007T190000
SUMMARY:Hiawassee GA - Jo Dee Messina Live at Anderson Music Hall at Georgia Mtn Fairground
DESCRIPTION:Jo Dee Messina LiveHeads Carolina\, Tails California….concert in north Georgia!Jo Dee Messina is a seasoned veteran in the music industry\, always evolving and reintroducing herself and her sound as... For complete event details please visit:  https://theblueridgehighlander.com/calendar/?eID=14431\n______________________________\nEvent Downloaded Powered by Helios Calendar
LOCATION:Georgia Mountain Fairgrounds - 1311 Music Hall Road \, Hiawassee\, GA USA 30546
CATEGORIES:Highlander Calendar of Events Events
PRIORITY:0
TRANSP:TRANSPARENT
END:VEVENT
END:VCALENDAR