BEGIN:VCALENDAR
VERSION:2.0
METHOD:PUBLISH
CALSCALE:GREGORIAN
PRODID:-//Helios Calendar//EN
X-FROM-URL:https://theblueridgehighlander.com/calendar/index.php?eID=14432
X-WR-RELCALID:Highlander Calendar of Events Hiawassee GA - The Beach Boys Live at Anderson Music Hall at Georgia Mtn Fairground 20230519T190000
X-WR-TIMEZONE:America/New_York
X-WR-CALNAME:Highlander Calendar of Events
BEGIN:VEVENT
URL;VALUE=URI:https://theblueridgehighlander.com/calendar/index.php?eID=14432
DTSTART:20230519T190000
DTEND:20230519T190000
SUMMARY:Hiawassee GA - The Beach Boys Live at Anderson Music Hall at Georgia Mtn Fairground
DESCRIPTION:The Beach Boys Live in HiawasseeWe're going to have FUN\, FUN\, FUN when The Beach Boys come to TownAs The Beach Boys mark more than a half century of making music\, the group continues to ride the crest... For complete event details please visit:  https://theblueridgehighlander.com/calendar/?eID=14432\n______________________________\nEvent Downloaded Powered by Helios Calendar
LOCATION:Georgia Mountain Fairgrounds - 1311 Music Hall Road \, Hiawassee\, GA USA 30546
CATEGORIES:Highlander Calendar of Events Events
PRIORITY:0
TRANSP:TRANSPARENT
END:VEVENT
END:VCALENDAR