BEGIN:VCALENDAR
VERSION:2.0
METHOD:PUBLISH
CALSCALE:GREGORIAN
PRODID:-//Helios Calendar//EN
X-FROM-URL:https://theblueridgehighlander.com/calendar/index.php?eID=14433
X-WR-RELCALID:Highlander Calendar of Events Hiawassee GA - Josh Turner Live at Anderson Music Hall at Georgia Mtn Fairground 20230513T190000
X-WR-TIMEZONE:America/New_York
X-WR-CALNAME:Highlander Calendar of Events
BEGIN:VEVENT
URL;VALUE=URI:https://theblueridgehighlander.com/calendar/index.php?eID=14433
DTSTART:20230513T190000
DTEND:20230513T190000
SUMMARY:Hiawassee GA - Josh Turner Live at Anderson Music Hall at Georgia Mtn Fairground
DESCRIPTION:Josh Turner & The Long Black Train 20th Anniversary Tour!With his deep bass voice\, Turner has sold more than six and a half million records\, reached 4.8 billion global streams\, and has become... For complete event details please visit:  https://theblueridgehighlander.com/calendar/?eID=14433\n______________________________\nEvent Downloaded Powered by Helios Calendar
LOCATION:Georgia Mountain Fairgrounds - 1311 Music Hall Road \, Hiawassee\, GA USA 30546
CATEGORIES:Highlander Calendar of Events Events
PRIORITY:0
TRANSP:TRANSPARENT
END:VEVENT
END:VCALENDAR