BEGIN:VCALENDAR
VERSION:2.0
METHOD:PUBLISH
CALSCALE:GREGORIAN
PRODID:-//Helios Calendar//EN
X-FROM-URL:https://theblueridgehighlander.com/calendar/index.php?eID=14524
X-WR-RELCALID:Highlander Calendar of Events Hiawassee GA - Wheel of Fortune LIVE! at the Georgia Mountain Fairgrounds 20231028T190000
X-WR-TIMEZONE:America/New_York
X-WR-CALNAME:Highlander Calendar of Events
BEGIN:VEVENT
URL;VALUE=URI:https://theblueridgehighlander.com/calendar/index.php?eID=14524
DTSTART:20231028T190000
DTEND:20231028T230000
SUMMARY:Hiawassee GA - Wheel of Fortune LIVE! at the Georgia Mountain Fairgrounds
DESCRIPTION:Wheel of Fortune LIVE!Saturday\, October 28th7pmTickets: $47 + HandlingWheel of Fortune LIVE! brings America's Game® to your hometown! One of the greatest game shows of all time has been... For complete event details please visit:  https://theblueridgehighlander.com/calendar/?eID=14524\n______________________________\nEvent Downloaded Powered by Helios Calendar
LOCATION:Georgia Mountain Fairgrounds - 1311 Music Hall Road \, Hiawassee\, GA USA 30546
CATEGORIES:Highlander Calendar of Events Events
PRIORITY:0
TRANSP:TRANSPARENT
END:VEVENT
END:VCALENDAR