BEGIN:VCALENDAR
VERSION:2.0
METHOD:PUBLISH
CALSCALE:GREGORIAN
PRODID:-//Helios Calendar//EN
X-FROM-URL:https://theblueridgehighlander.com/calendar/index.php?eID=14526
X-WR-RELCALID:Highlander Calendar of Events Hiawassee GA - Ashley McBryde in Concert at Anderson Music Hall at Georgia Mountain Fairgrounds 20231104T190000
X-WR-TIMEZONE:America/New_York
X-WR-CALNAME:Highlander Calendar of Events
BEGIN:VEVENT
URL;VALUE=URI:https://theblueridgehighlander.com/calendar/index.php?eID=14526
DTSTART:20231104T190000
DTEND:20231104T230000
SUMMARY:Hiawassee GA - Ashley McBryde in Concert at Anderson Music Hall at Georgia Mountain Fairgrounds
DESCRIPTION:Ashley McBrydeSpecial Guest: Zach TopSaturday\, November 4th7pmAdmission: $50 + handlingGRAMMY\, CMA and ACM award winner Ashley McBryde cut her teeth playing country songs... For complete event details please visit:  https://theblueridgehighlander.com/calendar/?eID=14526\n______________________________\nEvent Downloaded Powered by Helios Calendar
LOCATION:Georgia Mountain Fairgrounds - 1311 Music Hall Road \, Hiawassee\, GA USA 30546
CATEGORIES:Highlander Calendar of Events Events
PRIORITY:0
TRANSP:TRANSPARENT
END:VEVENT
END:VCALENDAR