BEGIN:VCALENDAR
VERSION:2.0
METHOD:PUBLISH
CALSCALE:GREGORIAN
PRODID:-//Helios Calendar//EN
X-FROM-URL:https://theblueridgehighlander.com/calendar/index.php?eID=14527
X-WR-RELCALID:Highlander Calendar of Events Hiawassee GA - Colt Ford & Creed Fisher in Concert at Anderson Music Hall at Georgia Mountain Fairgrounds 20231111T190000
X-WR-TIMEZONE:America/New_York
X-WR-CALNAME:Highlander Calendar of Events
BEGIN:VEVENT
URL;VALUE=URI:https://theblueridgehighlander.com/calendar/index.php?eID=14527
DTSTART:20231111T190000
DTEND:20231111T230000
SUMMARY:Hiawassee GA - Colt Ford & Creed Fisher in Concert at Anderson Music Hall at Georgia Mountain Fairgrounds
DESCRIPTION:Colt Ford & Creed FisherSaturday\, November 11th7pmAdmission: $35 + handlingColt Ford consistently blazes his own trail. By doing so\, the Georgia singer\, songwriter\, rapper\, musician\,... For complete event details please visit:  https://theblueridgehighlander.com/calendar/?eID=14527\n______________________________\nEvent Downloaded Powered by Helios Calendar
LOCATION:Georgia Mountain Fairgrounds - 1311 Music Hall Road \, Hiawassee\, GA USA 30546
CATEGORIES:Highlander Calendar of Events Events
PRIORITY:0
TRANSP:TRANSPARENT
END:VEVENT
END:VCALENDAR