BEGIN:VCALENDAR
VERSION:2.0
METHOD:PUBLISH
CALSCALE:GREGORIAN
PRODID:-//Helios Calendar//EN
X-FROM-URL:https://theblueridgehighlander.com/calendar/index.php?eID=14573
X-WR-RELCALID:Highlander Calendar of Events Chimney Rock NC - Winter in Nature Photo Contest 20240211
X-WR-TIMEZONE:America/New_York
X-WR-CALNAME:Highlander Calendar of Events
BEGIN:VEVENT
URL;VALUE=URI:https://theblueridgehighlander.com/calendar/index.php?eID=14573
DTSTART;VALUE=DATE:20240211
DTEND;VALUE=DATE:20240212
SUMMARY:Chimney Rock NC - Winter in Nature Photo Contest
DESCRIPTION:"Winter in Nature" Photo ContestJanuary 1 – February 29thThough it’s often overlooked\, winter is the perfect season to visit Chimney Rock. If you find yourself in the park this winter\,... For complete event details please visit:  https://theblueridgehighlander.com/calendar/?eID=14573\n______________________________\nEvent Downloaded Powered by Helios Calendar
LOCATION:Chimney Rock at Chimney Rock State Park - 174 Chimney Rock Park Road \, Chimney Rock\, NC USA 28720
CATEGORIES:Highlander Calendar of Events Events
PRIORITY:0
TRANSP:TRANSPARENT
END:VEVENT
END:VCALENDAR