BEGIN:VCALENDAR
VERSION:2.0
METHOD:PUBLISH
CALSCALE:GREGORIAN
PRODID:-//Helios Calendar//EN
X-FROM-URL:https://theblueridgehighlander.com/calendar/index.php?eID=14594
X-WR-RELCALID:Highlander Calendar of Events Chimney Rock NC - 19th Annual Groundhog Day Celebration 20240202T100000
X-WR-TIMEZONE:America/New_York
X-WR-CALNAME:Highlander Calendar of Events
BEGIN:VEVENT
URL;VALUE=URI:https://theblueridgehighlander.com/calendar/index.php?eID=14594
DTSTART:20240202T100000
DTEND:20240202T110000
SUMMARY:Chimney Rock NC - 19th Annual Groundhog Day Celebration
DESCRIPTION:19th Annual Groundhog DayIt’s our favorite holiday of the year! Come meet our new groundhogs Potato and Yam as they make their meteorological debut\, and find out if it will be an early... For complete event details please visit:  https://theblueridgehighlander.com/calendar/?eID=14594\n______________________________\nEvent Downloaded Powered by Helios Calendar
LOCATION:Chimney Rock at Chimney Rock State Park - 174 Chimney Rock Park Road \, Chimney Rock\, NC USA 28720
CATEGORIES:Highlander Calendar of Events Events
PRIORITY:0
TRANSP:TRANSPARENT
END:VEVENT
END:VCALENDAR