BEGIN:VCALENDAR
VERSION:2.0
METHOD:PUBLISH
CALSCALE:GREGORIAN
PRODID:-//Helios Calendar//EN
X-FROM-URL:https://theblueridgehighlander.com/calendar/index.php?eID=14651
X-WR-RELCALID:Highlander Calendar of Events Hiawassee GA - Top of Georgia Plein Air Festival at Hamilton Gardens at Georgia Mountain Fairgrounds 20240510T073000
X-WR-TIMEZONE:America/New_York
X-WR-CALNAME:Highlander Calendar of Events
BEGIN:VEVENT
URL;VALUE=URI:https://theblueridgehighlander.com/calendar/index.php?eID=14651
DTSTART:20240510T073000
DTEND:20240510T200000
SUMMARY:Hiawassee GA - Top of Georgia Plein Air Festival at Hamilton Gardens at Georgia Mountain Fairgrounds
DESCRIPTION:Top of Georgia Plein Air FestivalTop of Georgia is a 3 day painting event with $2\,000 + in prize money.  The public is invited to observe the artists as they work in their chosen mediums.... For complete event details please visit:  https://theblueridgehighlander.com/calendar/?eID=14651\n______________________________\nEvent Downloaded Powered by Helios Calendar
LOCATION:Georgia Mountain Fairgrounds - 1311 Music Hall Road \, Hiawassee\, GA USA 30546
CATEGORIES:Highlander Calendar of Events Events
PRIORITY:0
TRANSP:TRANSPARENT
END:VEVENT
END:VCALENDAR