BEGIN:VCALENDAR
VERSION:2.0
METHOD:PUBLISH
CALSCALE:GREGORIAN
PRODID:-//Helios Calendar//EN
X-FROM-URL:https://theblueridgehighlander.com/calendar/index.php?eID=14653
X-WR-RELCALID:Highlander Calendar of Events Hiawassee GA - Hiawassee Highlands Wine Festival at Georgia Mtn Fairgrounds 20240511T110000
X-WR-TIMEZONE:America/New_York
X-WR-CALNAME:Highlander Calendar of Events
BEGIN:VEVENT
URL;VALUE=URI:https://theblueridgehighlander.com/calendar/index.php?eID=14653
DTSTART:20240511T110000
DTEND:20240511T170000
SUMMARY:Hiawassee GA - Hiawassee Highlands Wine Festival at Georgia Mtn Fairgrounds
DESCRIPTION:Hiawassee Highlands Wine FestivalThe Hiawassee Highlands Wine Festival will be on Saturday\, May 11th. Our Tractor Trolly will shuttle visitors from the Fairground gates to up to the... For complete event details please visit:  https://theblueridgehighlander.com/calendar/?eID=14653\n______________________________\nEvent Downloaded Powered by Helios Calendar
LOCATION:Georgia Mountain Fairgrounds - 1311 Music Hall Road \, Hiawassee\, GA USA 30546
CATEGORIES:Highlander Calendar of Events Events
PRIORITY:0
TRANSP:TRANSPARENT
END:VEVENT
END:VCALENDAR