BEGIN:VCALENDAR
VERSION:2.0
METHOD:PUBLISH
CALSCALE:GREGORIAN
PRODID:-//Helios Calendar//EN
X-FROM-URL:https://theblueridgehighlander.com/calendar/index.php?eID=14660
X-WR-RELCALID:Highlander Calendar of Events Hiawassee GA - Georgia Mountain Fair Spring Yard Sale 20240420T080000
X-WR-TIMEZONE:America/New_York
X-WR-CALNAME:Highlander Calendar of Events
BEGIN:VEVENT
URL;VALUE=URI:https://theblueridgehighlander.com/calendar/index.php?eID=14660
DTSTART:20240420T080000
DTEND:20240420T150000
SUMMARY:Hiawassee GA - Georgia Mountain Fair Spring Yard Sale
DESCRIPTION:One man's trash is another man's treasure. Come shop for amazing treasures at the Georgia Mountain Fairgrounds! Free admission. Free Parking!  Friday\, April 19\, 2024 from 9am-3pmSaturday\,... For complete event details please visit:  https://theblueridgehighlander.com/calendar/?eID=14660\n______________________________\nEvent Downloaded Powered by Helios Calendar
LOCATION:Georgia Mountain Fairgrounds - 1311 Music Hall Road \, Hiawassee\, GA USA 30546
CATEGORIES:Highlander Calendar of Events Events
PRIORITY:0
TRANSP:TRANSPARENT
END:VEVENT
END:VCALENDAR