BEGIN:VCALENDAR
VERSION:2.0
METHOD:PUBLISH
CALSCALE:GREGORIAN
PRODID:-//Helios Calendar//EN
X-FROM-URL:https://theblueridgehighlander.com/calendar/index.php?eID=14661
X-WR-RELCALID:Highlander Calendar of Events Hiawassee GA - Memory Lane Classic Car Show at Georgia Mountain Fairgrounds 20240426T080000
X-WR-TIMEZONE:America/New_York
X-WR-CALNAME:Highlander Calendar of Events
BEGIN:VEVENT
URL;VALUE=URI:https://theblueridgehighlander.com/calendar/index.php?eID=14661
DTSTART:20240426T080000
DTEND:20240426T160000
SUMMARY:Hiawassee GA - Memory Lane Classic Car Show at Georgia Mountain Fairgrounds
DESCRIPTION: Memory Lane Classic Car ShowCalling all car enthusiasts! Join us for a Classic Car Show in beautiful Hiawassee\, Ga  Classic cars\, mountains\, & beautiful lake Chatuge make... For complete event details please visit:  https://theblueridgehighlander.com/calendar/?eID=14661\n______________________________\nEvent Downloaded Powered by Helios Calendar
LOCATION:Georgia Mountain Fairgrounds - 1311 Music Hall Road \, Hiawassee\, GA USA 30546
CATEGORIES:Highlander Calendar of Events Events
PRIORITY:0
TRANSP:TRANSPARENT
END:VEVENT
END:VCALENDAR