BEGIN:VCALENDAR
VERSION:2.0
METHOD:PUBLISH
CALSCALE:GREGORIAN
PRODID:-//Helios Calendar//EN
X-FROM-URL:https://theblueridgehighlander.com/calendar/index.php?eID=14664
X-WR-RELCALID:Highlander Calendar of Events Hiawassee GA - Greater Atlanta British Motorcycle Rally at the Georgia Mtn Fairgrounds 20240608T100000
X-WR-TIMEZONE:America/New_York
X-WR-CALNAME:Highlander Calendar of Events
BEGIN:VEVENT
URL;VALUE=URI:https://theblueridgehighlander.com/calendar/index.php?eID=14664
DTSTART:20240608T100000
DTEND:20240608T100000
SUMMARY:Hiawassee GA - Greater Atlanta British Motorcycle Rally at the Georgia Mtn Fairgrounds
DESCRIPTION:Greater Atlanta British Motorcycle National RallyThe British are coming. The British are coming. And you should too! Join fellow British motorcycle lovers for a perfect summer weekend... For complete event details please visit:  https://theblueridgehighlander.com/calendar/?eID=14664\n______________________________\nEvent Downloaded Powered by Helios Calendar
LOCATION:Georgia Mountain Fairgrounds - 1311 Music Hall Road \, Hiawassee\, GA USA 30546
CATEGORIES:Highlander Calendar of Events Events
PRIORITY:0
TRANSP:TRANSPARENT
END:VEVENT
END:VCALENDAR