BEGIN:VCALENDAR
VERSION:2.0
METHOD:PUBLISH
CALSCALE:GREGORIAN
PRODID:-//Helios Calendar//EN
X-FROM-URL:https://theblueridgehighlander.com/calendar/index.php?eID=14677
X-WR-RELCALID:Highlander Calendar of Events Hiawassee GA - Corey Smith Live at Anderson Music Hall at Georgia Mtn Fairground  20240217T190000
X-WR-TIMEZONE:America/New_York
X-WR-CALNAME:Highlander Calendar of Events
BEGIN:VEVENT
URL;VALUE=URI:https://theblueridgehighlander.com/calendar/index.php?eID=14677
DTSTART:20240217T190000
DTEND:20240217T190000
SUMMARY:Hiawassee GA - Corey Smith Live at Anderson Music Hall at Georgia Mtn Fairground 
DESCRIPTION:Corey Smith Live at Anderson Music Hall at Georgia Mtn FairgroundCorey Smith has amassed an unfailingly devout fan base\, not only in his native Southeast region\, but all around the nation\, simply... For complete event details please visit:  https://theblueridgehighlander.com/calendar/?eID=14677\n______________________________\nEvent Downloaded Powered by Helios Calendar
LOCATION:Georgia Mountain Fairgrounds - 1311 Music Hall Road \, Hiawassee\, GA USA 30546
CATEGORIES:Highlander Calendar of Events Events
PRIORITY:0
TRANSP:TRANSPARENT
END:VEVENT
END:VCALENDAR