BEGIN:VCALENDAR
VERSION:2.0
METHOD:PUBLISH
CALSCALE:GREGORIAN
PRODID:-//Helios Calendar//EN
X-FROM-URL:https://theblueridgehighlander.com/calendar/index.php?eID=14711
X-WR-RELCALID:Highlander Calendar of Events Hiawassee GA - Dustin Lynch: Killed the Cowboy Tour Live at Anderson Music Hall at Georgia Mtn Fairground 20240420T190000
X-WR-TIMEZONE:America/New_York
X-WR-CALNAME:Highlander Calendar of Events
BEGIN:VEVENT
URL;VALUE=URI:https://theblueridgehighlander.com/calendar/index.php?eID=14711
DTSTART:20240420T190000
DTEND:20240420T190000
SUMMARY:Hiawassee GA - Dustin Lynch: Killed the Cowboy Tour Live at Anderson Music Hall at Georgia Mtn Fairground
DESCRIPTION:Dustin Lynch: Killed the Cowboy Tour Live at Anderson Music Hall at Georgia Mtn FairgroundSaturday\, April 20\, 2024 - 7pmSpecial Guest: SkeezTickets: Tickets: $45 + HandlingDustin Lynch... For complete event details please visit:  https://theblueridgehighlander.com/calendar/?eID=14711\n______________________________\nEvent Downloaded Powered by Helios Calendar
LOCATION:Georgia Mountain Fairgrounds - 1311 Music Hall Road \, Hiawassee\, GA USA 30546
CATEGORIES:Highlander Calendar of Events Events
PRIORITY:0
TRANSP:TRANSPARENT
END:VEVENT
END:VCALENDAR