BEGIN:VCALENDAR
VERSION:2.0
METHOD:PUBLISH
CALSCALE:GREGORIAN
PRODID:-//Helios Calendar//EN
X-FROM-URL:https://theblueridgehighlander.com/calendar/index.php?eID=14714
X-WR-RELCALID:Highlander Calendar of Events Hiawassee GA - Georgia Mountain Fire & Smoke Cooking Festival at Georgia Mtn Fairground  20240518T090000
X-WR-TIMEZONE:America/New_York
X-WR-CALNAME:Highlander Calendar of Events
BEGIN:VEVENT
URL;VALUE=URI:https://theblueridgehighlander.com/calendar/index.php?eID=14714
DTSTART:20240518T090000
DTEND:20240518T160000
SUMMARY:Hiawassee GA - Georgia Mountain Fire & Smoke Cooking Festival at Georgia Mtn Fairground 
DESCRIPTION:Georgia Mountain Fire & Smoke Cooking FestivalMay 17th\, 2024\, Meet & Greet party from 5pm-8pmMay 18th\, 2024\, Cooking Festival from 9am-4pmTasting Ticket: $30Come... For complete event details please visit:  https://theblueridgehighlander.com/calendar/?eID=14714\n______________________________\nEvent Downloaded Powered by Helios Calendar
LOCATION:Georgia Mountain Fairgrounds - 1311 Music Hall Road \, Hiawassee\, GA USA 30546
CATEGORIES:Highlander Calendar of Events Events
PRIORITY:0
TRANSP:TRANSPARENT
END:VEVENT
END:VCALENDAR