BEGIN:VCALENDAR
VERSION:2.0
METHOD:PUBLISH
CALSCALE:GREGORIAN
PRODID:-//Helios Calendar//EN
X-FROM-URL:https://theblueridgehighlander.com/calendar/index.php?eID=14815
X-WR-RELCALID:Highlander Calendar of Events Hiawassee GA - Hiawassee Rod Run at Georgia Mountain Fairground  20240621T090000
X-WR-TIMEZONE:America/New_York
X-WR-CALNAME:Highlander Calendar of Events
BEGIN:VEVENT
URL;VALUE=URI:https://theblueridgehighlander.com/calendar/index.php?eID=14815
DTSTART:20240621T090000
DTEND:20240621T170000
SUMMARY:Hiawassee GA - Hiawassee Rod Run at Georgia Mountain Fairground 
DESCRIPTION:Hiawassee Rod RunPresented by Kahr Motorsports & the Georgia Mountain FairgroundsJune 20\, 21\, & 22\, 20249am-5pmDaily Admission: $10\, Children 12 & Under are FREE!Hiawassee Rod Run... For complete event details please visit:  https://theblueridgehighlander.com/calendar/?eID=14815\n______________________________\nEvent Downloaded Powered by Helios Calendar
LOCATION:Georgia Mountain Fairgrounds - 1311 Music Hall Road \, Hiawassee\, GA USA 30546
CATEGORIES:Highlander Calendar of Events Events
PRIORITY:0
TRANSP:TRANSPARENT
END:VEVENT
END:VCALENDAR