BEGIN:VCALENDAR
VERSION:2.0
METHOD:PUBLISH
CALSCALE:GREGORIAN
PRODID:-//Helios Calendar//EN
X-FROM-URL:https://theblueridgehighlander.com/calendar/index.php?eID=14844
X-WR-RELCALID:Highlander Calendar of Events Hiawassee GA - Georgia Mountain Fall Festival at Georgia Mountain Fairgrounds 20241012T100000
X-WR-TIMEZONE:America/New_York
X-WR-CALNAME:Highlander Calendar of Events
BEGIN:VEVENT
URL;VALUE=URI:https://theblueridgehighlander.com/calendar/index.php?eID=14844
DTSTART:20241012T100000
DTEND:20241012T190000
SUMMARY:Hiawassee GA - Georgia Mountain Fall Festival at Georgia Mountain Fairgrounds
DESCRIPTION:Look forward to the 2024 Fall Festival October 11th - 19th. With its mild temperatures and beautiful scenery there is no better place to be than the North Georgia Mountains in the fall!Each October\,... For complete event details please visit:  https://theblueridgehighlander.com/calendar/?eID=14844\n______________________________\nEvent Downloaded Powered by Helios Calendar
LOCATION:Georgia Mountain Fairgrounds - 1311 Music Hall Road \, Hiawassee\, GA USA 30546
CATEGORIES:Highlander Calendar of Events Events
PRIORITY:0
TRANSP:TRANSPARENT
END:VEVENT
END:VCALENDAR