BEGIN:VCALENDAR
VERSION:2.0
METHOD:PUBLISH
CALSCALE:GREGORIAN
PRODID:-//Helios Calendar//EN
X-FROM-URL:https://theblueridgehighlander.com/calendar/index.php?eID=14861
X-WR-RELCALID:Highlander Calendar of Events Hiawassee GA - Mountain Country Christmas in Lights at Georgia Mountain Fairgrounds 20241207T180000
X-WR-TIMEZONE:America/New_York
X-WR-CALNAME:Highlander Calendar of Events
BEGIN:VEVENT
URL;VALUE=URI:https://theblueridgehighlander.com/calendar/index.php?eID=14861
DTSTART:20241207T180000
DTEND:20241207T210000
SUMMARY:Hiawassee GA - Mountain Country Christmas in Lights at Georgia Mountain Fairgrounds
DESCRIPTION:Mountain Country Christmas in Lights 2024\, is a holiday treat for the entire family at the Georgia Mountain Fairgrounds in Hiawassee\, GA along the shores of beautiful Lake Chatuge in the Northeast... For complete event details please visit:  https://theblueridgehighlander.com/calendar/?eID=14861\n______________________________\nEvent Downloaded Powered by Helios Calendar
LOCATION:Georgia Mountain Fairgrounds - 1311 Music Hall Road \, Hiawassee\, GA USA 30546
CATEGORIES:Highlander Calendar of Events Events
PRIORITY:0
TRANSP:TRANSPARENT
END:VEVENT
END:VCALENDAR