BEGIN:VCALENDAR
VERSION:2.0
METHOD:PUBLISH
CALSCALE:GREGORIAN
PRODID:-//Helios Calendar//EN
X-FROM-URL:https://theblueridgehighlander.com/calendar/index.php?eID=14879
X-WR-RELCALID:Highlander Calendar of Events Hiawassee GA - Neil Diamond Tribute Live at Anderson Music Hall at Georgia Mountain Fairground 20241005T190000
X-WR-TIMEZONE:America/New_York
X-WR-CALNAME:Highlander Calendar of Events
BEGIN:VEVENT
URL;VALUE=URI:https://theblueridgehighlander.com/calendar/index.php?eID=14879
DTSTART:20241005T190000
DTEND:20241005T190000
SUMMARY:Hiawassee GA - Neil Diamond Tribute Live at Anderson Music Hall at Georgia Mountain Fairground
DESCRIPTION:Neil Diamond Tribute Live at Anderson Music Hall at Georgia Mountain FairgroundSaturday\, October 05 • 7pmAdmission: $45 + HandlingTicket includes Georgia Mountain Fair admissionSteve... For complete event details please visit:  https://theblueridgehighlander.com/calendar/?eID=14879\n______________________________\nEvent Downloaded Powered by Helios Calendar
LOCATION:Georgia Mountain Fairgrounds - 1311 Music Hall Road \, Hiawassee\, GA USA 30546
CATEGORIES:Highlander Calendar of Events Events
PRIORITY:0
TRANSP:TRANSPARENT
END:VEVENT
END:VCALENDAR