BEGIN:VCALENDAR
VERSION:2.0
METHOD:PUBLISH
CALSCALE:GREGORIAN
PRODID:-//Helios Calendar//EN
X-FROM-URL:https://theblueridgehighlander.com/calendar/index.php?eID=14883
X-WR-RELCALID:Highlander Calendar of Events Hiawassee GA - Appalachian Brew, Que, and Stew Festival at Georgia Mountain Fairgrounds 20241026T110000
X-WR-TIMEZONE:America/New_York
X-WR-CALNAME:Highlander Calendar of Events
BEGIN:VEVENT
URL;VALUE=URI:https://theblueridgehighlander.com/calendar/index.php?eID=14883
DTSTART:20241026T110000
DTEND:20241026T170000
SUMMARY:Hiawassee GA - Appalachian Brew\, Que\, and Stew Festival at Georgia Mountain Fairgrounds
DESCRIPTION:Appalachian Brew\, Que\, and Stew FestivalSaturday\, October 2611am-5pm60+ BreweriesUnlimited TastingSouvenir GlassMusic and VendorsNew for 2023 - Beer Garden - a relaxed area to enjoy the festival!... For complete event details please visit:  https://theblueridgehighlander.com/calendar/?eID=14883\n______________________________\nEvent Downloaded Powered by Helios Calendar
LOCATION:Georgia Mountain Fairgrounds - 1311 Music Hall Road \, Hiawassee\, GA USA 30546
CATEGORIES:Highlander Calendar of Events Events
PRIORITY:0
TRANSP:TRANSPARENT
END:VEVENT
END:VCALENDAR