BEGIN:VCALENDAR
VERSION:2.0
METHOD:PUBLISH
CALSCALE:GREGORIAN
PRODID:-//Helios Calendar//EN
X-FROM-URL:https://theblueridgehighlander.com/calendar/index.php?eID=14884
X-WR-RELCALID:Highlander Calendar of Events Hiawassee GA - New Years Eve Fireworks at Georgia Mountain Fairgrounds 20261231T180000
X-WR-TIMEZONE:America/New_York
X-WR-CALNAME:Highlander Calendar of Events
BEGIN:VEVENT
URL;VALUE=URI:https://theblueridgehighlander.com/calendar/index.php?eID=14884
DTSTART:20261231T180000
DTEND:20261231T180000
SUMMARY:Hiawassee GA - New Years Eve Fireworks at Georgia Mountain Fairgrounds
DESCRIPTION:New Years Eve FireworksRing in 2027 at the Georgia Mountain Fairgrounds! FREE parking & admission to watch the Fireworks! The parking lot opens at 6pm. We will be selling hot dogs\, chilli\,... For complete event details please visit:  https://theblueridgehighlander.com/calendar/?eID=14884\n______________________________\nEvent Downloaded Powered by Helios Calendar
LOCATION:Georgia Mountain Fairgrounds - 1311 Music Hall Road \, Hiawassee\, GA USA 30546
CATEGORIES:Highlander Calendar of Events Events
PRIORITY:0
TRANSP:TRANSPARENT
END:VEVENT
END:VCALENDAR