BEGIN:VCALENDAR
VERSION:2.0
METHOD:PUBLISH
CALSCALE:GREGORIAN
PRODID:-//Helios Calendar//EN
X-FROM-URL:https://theblueridgehighlander.com/calendar/index.php?eID=14927
X-WR-RELCALID:Highlander Calendar of Events Blue Ridge GA - Summer Youth Art Camp at the Art Center 20240612T100000
X-WR-TIMEZONE:America/New_York
X-WR-CALNAME:Highlander Calendar of Events
BEGIN:VEVENT
URL;VALUE=URI:https://theblueridgehighlander.com/calendar/index.php?eID=14927
DTSTART:20240612T100000
DTEND:20240612T160000
SUMMARY:Blue Ridge GA - Summer Youth Art Camp at the Art Center
DESCRIPTION:Summer Youth Art Camp at the Art CenterSign up your young emerging artists for a creative summer with our Summer Youth Art Camp. We offer three weeks of full-day camp with a multitude of art classes... For complete event details please visit:  https://theblueridgehighlander.com/calendar/?eID=14927\n______________________________\nEvent Downloaded Powered by Helios Calendar
LOCATION:The Art Center - Blue Ridge Mtn Arts Association - 420 West Main Street \, Blue Ridge\, GA USA 30513
CATEGORIES:Highlander Calendar of Events Events
PRIORITY:0
TRANSP:TRANSPARENT
END:VEVENT
END:VCALENDAR