BEGIN:VCALENDAR
VERSION:2.0
METHOD:PUBLISH
CALSCALE:GREGORIAN
PRODID:-//Helios Calendar//EN
X-FROM-URL:https://theblueridgehighlander.com/calendar/index.php?eID=15132
X-WR-RELCALID:Highlander Calendar of Events Chimney Rock NC - Summer Animal Encounters 20240611T140000
X-WR-TIMEZONE:America/New_York
X-WR-CALNAME:Highlander Calendar of Events
BEGIN:VEVENT
URL;VALUE=URI:https://theblueridgehighlander.com/calendar/index.php?eID=15132
DTSTART:20240611T140000
DTEND:20240611T140000
SUMMARY:Chimney Rock NC - Summer Animal Encounters
DESCRIPTION: Summer Animal EncountersDid you know some of our favorite team members have feathers\, fur\, or scales? Come meet them and their naturalist counterparts during our Summer Animal Encounters.... For complete event details please visit:  https://theblueridgehighlander.com/calendar/?eID=15132\n______________________________\nEvent Downloaded Powered by Helios Calendar
LOCATION:Chimney Rock at Chimney Rock State Park - 174 Chimney Rock Park Road \, Chimney Rock\, NC USA 28720
CATEGORIES:Highlander Calendar of Events Events
PRIORITY:0
TRANSP:TRANSPARENT
END:VEVENT
END:VCALENDAR