BEGIN:VCALENDAR
VERSION:2.0
METHOD:PUBLISH
CALSCALE:GREGORIAN
PRODID:-//Helios Calendar//EN
X-FROM-URL:https://theblueridgehighlander.com/calendar/index.php?eID=15230
X-WR-RELCALID:Highlander Calendar of Events Hiawassee GA - Deana Carter Live at Anderson Music Hall at Georgia Mtn Fairground  20240511T190000
X-WR-TIMEZONE:America/New_York
X-WR-CALNAME:Highlander Calendar of Events
BEGIN:VEVENT
URL;VALUE=URI:https://theblueridgehighlander.com/calendar/index.php?eID=15230
DTSTART:20240511T190000
DTEND:20240511T190000
SUMMARY:Hiawassee GA - Deana Carter Live at Anderson Music Hall at Georgia Mtn Fairground 
DESCRIPTION:Deana Carter Live at Anderson Music Hall at Georgia Mtn FairgroundDrenched in sun-kissed natural beauty both inside and out\, Nashville native\, Deana Carter\, took a seemingly easy route to stardom... For complete event details please visit:  https://theblueridgehighlander.com/calendar/?eID=15230\n______________________________\nEvent Downloaded Powered by Helios Calendar
LOCATION:Georgia Mountain Fairgrounds - 1311 Music Hall Road \, Hiawassee\, GA USA 30546
CATEGORIES:Highlander Calendar of Events Events
PRIORITY:0
TRANSP:TRANSPARENT
END:VEVENT
END:VCALENDAR