BEGIN:VCALENDAR
VERSION:2.0
METHOD:PUBLISH
CALSCALE:GREGORIAN
PRODID:-//Helios Calendar//EN
X-FROM-URL:https://theblueridgehighlander.com/calendar/index.php?eID=15343
X-WR-RELCALID:Highlander Calendar of Events Hiawassee GA - Anthem Edition, LeFevre Quartet, & Gold City Live at Anderson Music Hall at Georgia Mtn Fairground  20241013T140000
X-WR-TIMEZONE:America/New_York
X-WR-CALNAME:Highlander Calendar of Events
BEGIN:VEVENT
URL;VALUE=URI:https://theblueridgehighlander.com/calendar/index.php?eID=15343
DTSTART:20241013T140000
DTEND:20241013T140000
SUMMARY:Hiawassee GA - Anthem Edition\, LeFevre Quartet\, & Gold City Live at Anderson Music Hall at Georgia Mtn Fairground 
DESCRIPTION:Anthem Edition\, LeFevre Quartet\, & Gold CityAnthem Edition burst onto the scene in 2003 as a trio called The Old Paths\, founded by Doug Roark and Tim Rackley with a mission to glorify... For complete event details please visit:  https://theblueridgehighlander.com/calendar/?eID=15343\n______________________________\nEvent Downloaded Powered by Helios Calendar
LOCATION:Georgia Mountain Fairgrounds - 1311 Music Hall Road \, Hiawassee\, GA USA 30546
CATEGORIES:Highlander Calendar of Events Events
PRIORITY:0
TRANSP:TRANSPARENT
END:VEVENT
END:VCALENDAR