BEGIN:VCALENDAR
VERSION:2.0
METHOD:PUBLISH
CALSCALE:GREGORIAN
PRODID:-//Helios Calendar//EN
X-FROM-URL:https://theblueridgehighlander.com/calendar/index.php?eID=15346
X-WR-RELCALID:Highlander Calendar of Events Hiawassee GA - Electric Avenue - The 80's MTV Experience at Anderson Music Hall at Georgia Mtn Fairground  20240720T180000
X-WR-TIMEZONE:America/New_York
X-WR-CALNAME:Highlander Calendar of Events
BEGIN:VEVENT
URL;VALUE=URI:https://theblueridgehighlander.com/calendar/index.php?eID=15346
DTSTART:20240720T180000
DTEND:20240720T180000
SUMMARY:Hiawassee GA - Electric Avenue - The 80's MTV Experience at Anderson Music Hall at Georgia Mtn Fairground 
DESCRIPTION:Electric Avenue - The 80's MTV Experience at Anderson Music Hall at Georgia Mtn FairgroundHiawassee DDA presents 2024 SUMMER FUN-DRAISER "ELECTRIC AVENUE - The 80's MTV Experience" at the... For complete event details please visit:  https://theblueridgehighlander.com/calendar/?eID=15346\n______________________________\nEvent Downloaded Powered by Helios Calendar
LOCATION:Georgia Mountain Fairgrounds - 1311 Music Hall Road \, Hiawassee\, GA USA 30546
CATEGORIES:Highlander Calendar of Events Events
PRIORITY:0
TRANSP:TRANSPARENT
END:VEVENT
END:VCALENDAR