BEGIN:VCALENDAR
VERSION:2.0
METHOD:PUBLISH
CALSCALE:GREGORIAN
PRODID:-//Helios Calendar//EN
X-FROM-URL:https://theblueridgehighlander.com/calendar/index.php?eID=15348
X-WR-RELCALID:Highlander Calendar of Events Hiawassee GA - Laser Light Show at Georgia Mtn Fairground 20240727T160000
X-WR-TIMEZONE:America/New_York
X-WR-CALNAME:Highlander Calendar of Events
BEGIN:VEVENT
URL;VALUE=URI:https://theblueridgehighlander.com/calendar/index.php?eID=15348
DTSTART:20240727T160000
DTEND:20240727T160000
SUMMARY:Hiawassee GA - Laser Light Show at Georgia Mtn Fairground
DESCRIPTION:Laser Light Show at Georgia Mtn FairgroundWe have a fun family night planned for you with Live Music by Riverbend & True Youngblood\, Kids Activities\, Vendors\, Food Trucks & a Laser... For complete event details please visit:  https://theblueridgehighlander.com/calendar/?eID=15348\n______________________________\nEvent Downloaded Powered by Helios Calendar
LOCATION:Georgia Mountain Fairgrounds - 1311 Music Hall Road \, Hiawassee\, GA USA 30546
CATEGORIES:Highlander Calendar of Events Events
PRIORITY:0
TRANSP:TRANSPARENT
END:VEVENT
END:VCALENDAR