BEGIN:VCALENDAR
VERSION:2.0
METHOD:PUBLISH
CALSCALE:GREGORIAN
PRODID:-//Helios Calendar//EN
X-FROM-URL:https://theblueridgehighlander.com/calendar/index.php?eID=15352
X-WR-RELCALID:Highlander Calendar of Events Hiawassee GA - Sara Evans and Special Guest Lee Newton Live at Anderson Music Hall at Georgia Mtn Fairground 20241025T190000
X-WR-TIMEZONE:America/New_York
X-WR-CALNAME:Highlander Calendar of Events
BEGIN:VEVENT
URL;VALUE=URI:https://theblueridgehighlander.com/calendar/index.php?eID=15352
DTSTART:20241025T190000
DTEND:20241025T190000
SUMMARY:Hiawassee GA - Sara Evans and Special Guest Lee Newton Live at Anderson Music Hall at Georgia Mtn Fairground
DESCRIPTION:Sara Evans and Special Guest Lee Newton Live at Anderson Music Hall at Georgia Mtn FairgroundOver the last two decades\, Sarah Evans has carved a successful career anchored by her insightful songwriting... For complete event details please visit:  https://theblueridgehighlander.com/calendar/?eID=15352\n______________________________\nEvent Downloaded Powered by Helios Calendar
LOCATION:Georgia Mountain Fairgrounds - 1311 Music Hall Road \, Hiawassee\, GA USA 30546
CATEGORIES:Highlander Calendar of Events Events
PRIORITY:0
TRANSP:TRANSPARENT
END:VEVENT
END:VCALENDAR