BEGIN:VCALENDAR
VERSION:2.0
METHOD:PUBLISH
CALSCALE:GREGORIAN
PRODID:-//Helios Calendar//EN
X-FROM-URL:https://theblueridgehighlander.com/calendar/index.php?eID=15355
X-WR-RELCALID:Highlander Calendar of Events Hiawassee GA - The Oak Ridge Boys American Made Farewell Tour at Anderson Music Hall at Georgia Mtn Fairground 20240823T190000
X-WR-TIMEZONE:America/New_York
X-WR-CALNAME:Highlander Calendar of Events
BEGIN:VEVENT
URL;VALUE=URI:https://theblueridgehighlander.com/calendar/index.php?eID=15355
DTSTART:20240823T190000
DTEND:20240823T190000
SUMMARY:Hiawassee GA - The Oak Ridge Boys American Made Farewell Tour at Anderson Music Hall at Georgia Mtn Fairground
DESCRIPTION:The Oak Ridge Boys American Made Farewell TourFriday\, August 23rd\, 2024 - 7pm$50.00 each + handlingThe Oak Ridge Boys have sold over 41 million units worldwide and are synonymous with "America\,... For complete event details please visit:  https://theblueridgehighlander.com/calendar/?eID=15355\n______________________________\nEvent Downloaded Powered by Helios Calendar
LOCATION:Georgia Mountain Fairgrounds - 1311 Music Hall Road \, Hiawassee\, GA USA 30546
CATEGORIES:Highlander Calendar of Events Events
PRIORITY:0
TRANSP:TRANSPARENT
END:VEVENT
END:VCALENDAR