BEGIN:VCALENDAR
VERSION:2.0
METHOD:PUBLISH
CALSCALE:GREGORIAN
PRODID:-//Helios Calendar//EN
X-FROM-URL:https://theblueridgehighlander.com/calendar/index.php?eID=15757
X-WR-RELCALID:Highlander Calendar of Events Hiawassee, GA - Three Dog Night at Anderson Music Hall at Georgia Mtn Fairground 20241018T190000
X-WR-TIMEZONE:America/New_York
X-WR-CALNAME:Highlander Calendar of Events
BEGIN:VEVENT
URL;VALUE=URI:https://theblueridgehighlander.com/calendar/index.php?eID=15757
DTSTART:20241018T190000
DTEND:20241018T190000
SUMMARY:Hiawassee\, GA - Three Dog Night at Anderson Music Hall at Georgia Mtn Fairground
DESCRIPTION:Three Dog Night at Anderson Music Hall at Georgia Mtn FairgroundLegendary band\, THREE DOG NIGHT\, now in its 6th decade\, claims some of the most astonishing statistics in popular music. In... For complete event details please visit:  https://theblueridgehighlander.com/calendar/?eID=15757\n______________________________\nEvent Downloaded Powered by Helios Calendar
LOCATION:Georgia Mountain Fairgrounds - 1311 Music Hall Road \, Hiawassee\, GA USA 30546
CATEGORIES:Highlander Calendar of Events Events
PRIORITY:0
TRANSP:TRANSPARENT
END:VEVENT
END:VCALENDAR