BEGIN:VCALENDAR
VERSION:2.0
METHOD:PUBLISH
CALSCALE:GREGORIAN
PRODID:-//Helios Calendar//EN
X-FROM-URL:https://theblueridgehighlander.com/calendar/index.php?eID=15798
X-WR-RELCALID:Highlander Calendar of Events Chimney Rock NC - Ramble with a Ranger Around Rumbling Bald 20240629T090000
X-WR-TIMEZONE:America/New_York
X-WR-CALNAME:Highlander Calendar of Events
BEGIN:VEVENT
URL;VALUE=URI:https://theblueridgehighlander.com/calendar/index.php?eID=15798
DTSTART:20240629T090000
DTEND:20240629T100000
SUMMARY:Chimney Rock NC - Ramble with a Ranger Around Rumbling Bald
DESCRIPTION:Ramble with a Ranger Around Rumbling BaldJoin a Park Ranger for a moderate 1.5 mile hike around the Rumbling Bald Loop every Saturday this summer and discover some of the natural wonders of Chimney... For complete event details please visit:  https://theblueridgehighlander.com/calendar/?eID=15798\n______________________________\nEvent Downloaded Powered by Helios Calendar
LOCATION:Chimney Rock at Chimney Rock State Park - 174 Chimney Rock Park Road \, Chimney Rock\, NC USA 28720
CATEGORIES:Highlander Calendar of Events Events
PRIORITY:0
TRANSP:TRANSPARENT
END:VEVENT
END:VCALENDAR